BEGIN:VCALENDAR
VERSION:2.0
PRODID:-//Winsar Publication - ECPv6.8.3//NONSGML v1.0//EN
CALSCALE:GREGORIAN
METHOD:PUBLISH
X-ORIGINAL-URL:https://winsar.org
X-WR-CALDESC:Events for Winsar Publication
REFRESH-INTERVAL;VALUE=DURATION:PT1H
X-Robots-Tag:noindex
X-PUBLISHED-TTL:PT1H
BEGIN:VTIMEZONE
TZID:UTC
BEGIN:STANDARD
TZOFFSETFROM:+0000
TZOFFSETTO:+0000
TZNAME:UTC
DTSTART:20240101T000000
END:STANDARD
END:VTIMEZONE
BEGIN:VEVENT
DTSTART;TZID=UTC:20240923T080000
DTEND;TZID=UTC:20240923T170000
DTSTAMP:20260422T102951
CREATED:20240923T061325Z
LAST-MODIFIED:20240923T064209Z
UID:20626-1727078400-1727110800@winsar.org
SUMMARY:मुख्यमंत्री पुष्कर सिंह धामी ने ‘‘खाकी में स्थितप्रज्ञ’’ पुस्तक का किया विमोचन
DESCRIPTION:समाज की प्रगति के लिए संगठित होना जरूरी : प्रो. नवानी		\n				\n				\n				\n																										\n				\n					\n				\n		\n					\n				\n				\n							डॉ. राजेंद्र प्रसाद नवानी ने स्व. दीनदयाल नवानी का पुण्य स्मरण करते हुए कहा कि जिस तरह उन्होंने प्रवासियों को संगठित कर समाज सेवा का अद्भुत कार्य किया\, वह हमारे लिए प्रेरणास्रोत है और नवानी भ्रातृत्व सम्मेलन द्वारा समाज सेवा और उत्तराखंड के विकास के लिए यथासंभव कार्य किए जायेंगे और सही मायने में यह स्व. दीनदयाल नवानी जी के प्रति सच्ची श्रद्धांजलि होगी। कार्यक्रम के प्रारंभ में पूर्व प्रधानाचार्य शिव प्रसाद कुकरेती ने स्व. दीनदयाल नवानी के व्यक्तित्व और कृतित्व पर प्रकाश डालते हुए उनके द्वारा क्वेटा तथा स्वतंत्रता के बाद सहारनपुर तथा देश के अन्य भागों में प्रवासी पहाड़ियों को संगठित कर समाज सेवा का उत्कृष्ट उदाहरण पेश किया था। सेवानिवृत्ति के बाद बारह साल तक निर्विरोध ग्राम प्रधान रह कर क्षेत्र के विकास में अभूतपूर्व योगदान दिया\, उससे हमें प्रेरणा लेनी चाहिए। ग्रामीण विकास नागरिक मंच के अध्यक्ष और कार्यक्रम के आयोजक प्रवेश चंद्र नवानी ने उनके संगठन द्वारा किए जा रहे लोककल्याण के कार्यों का ब्योरा रखा गया। प्रसार भारती के पूर्व निदेशक चक्रधर कंडवाल ने पुस्तक की समीक्षा करते हुए विनसर प्रकाशन के संचालक कीर्ति नवानी द्वारा किए जा रहे कार्यों की मुक्तकंठ से प्रशंसा की। उन्होंने कहा कि विनसर प्रकाशन ने उत्तराखंड की संस्कृति\, इतिहास\, भूगोल\, कला साहित्य पर जितना काम किया गया है\, वह बेमिसाल है। 						\n				\n					\n				\n		\n					\n				\n				\n			Featured In		\n				\n				\n				\n							UttarakhandhimalayaRajkajliveNayaadhyayDevbhoomisamvadHarshitatimesRajkajlive
URL:https://winsar.org/event/%e0%a4%ae%e0%a5%81%e0%a4%96%e0%a5%8d%e0%a4%af%e0%a4%ae%e0%a4%82%e0%a4%a4%e0%a5%8d%e0%a4%b0%e0%a5%80-%e0%a4%aa%e0%a5%81%e0%a4%b7%e0%a5%8d%e0%a4%95%e0%a4%b0-%e0%a4%b8%e0%a4%bf%e0%a4%82%e0%a4%b9/
CATEGORIES:Events
ATTACH;FMTTYPE=image/jpeg:https://winsar.org/wp-content/uploads/2024/09/WhatsApp-Image-2024-09-21-at-13.49.48.jpeg
END:VEVENT
BEGIN:VEVENT
DTSTART;TZID=UTC:20240923T080000
DTEND;TZID=UTC:20240923T170000
DTSTAMP:20260422T102951
CREATED:20240923T072207Z
LAST-MODIFIED:20240923T081242Z
UID:20640-1727078400-1727110800@winsar.org
SUMMARY:समाज की प्रगति के लिए संगठित होना जरूरी : प्रो. नवानी
DESCRIPTION:समाज की प्रगति के लिए संगठित होना जरूरी : प्रो. नवानी		\n				\n				\n				\n																										\n				\n					\n				\n		\n					\n				\n				\n							डॉ. राजेंद्र प्रसाद नवानी ने स्व. दीनदयाल नवानी का पुण्य स्मरण करते हुए कहा कि जिस तरह उन्होंने प्रवासियों को संगठित कर समाज सेवा का अद्भुत कार्य किया\, वह हमारे लिए प्रेरणास्रोत है और नवानी भ्रातृत्व सम्मेलन द्वारा समाज सेवा और उत्तराखंड के विकास के लिए यथासंभव कार्य किए जायेंगे और सही मायने में यह स्व. दीनदयाल नवानी जी के प्रति सच्ची श्रद्धांजलि होगी। कार्यक्रम के प्रारंभ में पूर्व प्रधानाचार्य शिव प्रसाद कुकरेती ने स्व. दीनदयाल नवानी के व्यक्तित्व और कृतित्व पर प्रकाश डालते हुए उनके द्वारा क्वेटा तथा स्वतंत्रता के बाद सहारनपुर तथा देश के अन्य भागों में प्रवासी पहाड़ियों को संगठित कर समाज सेवा का उत्कृष्ट उदाहरण पेश किया था। सेवानिवृत्ति के बाद बारह साल तक निर्विरोध ग्राम प्रधान रह कर क्षेत्र के विकास में अभूतपूर्व योगदान दिया\, उससे हमें प्रेरणा लेनी चाहिए। ग्रामीण विकास नागरिक मंच के अध्यक्ष और कार्यक्रम के आयोजक प्रवेश चंद्र नवानी ने उनके संगठन द्वारा किए जा रहे लोककल्याण के कार्यों का ब्योरा रखा गया। प्रसार भारती के पूर्व निदेशक चक्रधर कंडवाल ने पुस्तक की समीक्षा करते हुए विनसर प्रकाशन के संचालक कीर्ति नवानी द्वारा किए जा रहे कार्यों की मुक्तकंठ से प्रशंसा की। उन्होंने कहा कि विनसर प्रकाशन ने उत्तराखंड की संस्कृति\, इतिहास\, भूगोल\, कला साहित्य पर जितना काम किया गया है\, वह बेमिसाल है। 						\n				\n					\n				\n		\n					\n				\n				\n			Featured In		\n				\n				\n				\n							UttarakhandhimalayaRajkajliveNayaadhyayDevbhoomisamvadHarshitatimesRajkajlive
URL:https://winsar.org/event/%e0%a4%b8%e0%a4%ae%e0%a4%be%e0%a4%9c-%e0%a4%95%e0%a5%80-%e0%a4%aa%e0%a5%8d%e0%a4%b0%e0%a4%97%e0%a4%a4%e0%a4%bf-%e0%a4%95%e0%a5%87-%e0%a4%b2%e0%a4%bf%e0%a4%8f-%e0%a4%b8%e0%a4%82%e0%a4%97%e0%a4%a0/
CATEGORIES:Events
ATTACH;FMTTYPE=image/jpeg:https://winsar.org/wp-content/uploads/2024/09/WhatsApp-Image-2024-09-22-at-16.30.46-1.jpeg
END:VEVENT
END:VCALENDAR